BEGIN:VCALENDAR
VERSION:2.0
PRODID:-//Friends of Horicon Marsh - ECPv6.15.18//NONSGML v1.0//EN
CALSCALE:GREGORIAN
METHOD:PUBLISH
X-WR-CALNAME:Friends of Horicon Marsh
X-ORIGINAL-URL:https://horiconmarsh.org
X-WR-CALDESC:Events for Friends of Horicon Marsh
REFRESH-INTERVAL;VALUE=DURATION:PT1H
X-Robots-Tag:noindex
X-PUBLISHED-TTL:PT1H
BEGIN:VTIMEZONE
TZID:America/Chicago
BEGIN:DAYLIGHT
TZOFFSETFROM:-0600
TZOFFSETTO:-0500
TZNAME:CDT
DTSTART:20250309T080000
END:DAYLIGHT
BEGIN:STANDARD
TZOFFSETFROM:-0500
TZOFFSETTO:-0600
TZNAME:CST
DTSTART:20251102T070000
END:STANDARD
BEGIN:DAYLIGHT
TZOFFSETFROM:-0600
TZOFFSETTO:-0500
TZNAME:CDT
DTSTART:20260308T080000
END:DAYLIGHT
BEGIN:STANDARD
TZOFFSETFROM:-0500
TZOFFSETTO:-0600
TZNAME:CST
DTSTART:20261101T070000
END:STANDARD
BEGIN:DAYLIGHT
TZOFFSETFROM:-0600
TZOFFSETTO:-0500
TZNAME:CDT
DTSTART:20270314T080000
END:DAYLIGHT
BEGIN:STANDARD
TZOFFSETFROM:-0500
TZOFFSETTO:-0600
TZNAME:CST
DTSTART:20271107T070000
END:STANDARD
END:VTIMEZONE
BEGIN:VEVENT
DTSTART;TZID=America/Chicago:20260430T100000
DTEND;TZID=America/Chicago:20260430T110000
DTSTAMP:20260425T083857
CREATED:20250913T202547Z
LAST-MODIFIED:20250913T202547Z
UID:10003427-1777543200-1777546800@horiconmarsh.org
SUMMARY:Little Naturalists: Pond Dipping
DESCRIPTION:Little Naturalists: Pond Dipping\nThursday\, April 30th\, 2026\n10:00am-11:00am \nHelping your littles develop a love for nature. Come along as we uncover the natural world around us using literature\, music\, play and hands on discovery. Content made for ages 3 – 7\, all ages welcome.\n\nThis program is FREE with no registration required. Please meet at the Horicon Marsh Education and Visitor Center located at N7725 Highway 28\, Horicon\, WI\, 53032.\n\nQuestions? Please contact Chelsy Herring at chelsy.herring@wisconsin.gov or Elizabeth Herzmann at elizabeth.herzmann@wisconsin.gov
URL:https://horiconmarsh.org/event/little-naturalists-pond-dipping/
LOCATION:WI
END:VEVENT
END:VCALENDAR